BEGIN:VCALENDAR
VERSION:2.0
PRODID:-//Catholic Cemeteries of Long Island - ECPv6.15.17.1//NONSGML v1.0//EN
CALSCALE:GREGORIAN
METHOD:PUBLISH
X-WR-CALNAME:Catholic Cemeteries of Long Island
X-ORIGINAL-URL:https://cclongisland.org
X-WR-CALDESC:Events for Catholic Cemeteries of Long Island
REFRESH-INTERVAL;VALUE=DURATION:PT1H
X-Robots-Tag:noindex
X-PUBLISHED-TTL:PT1H
BEGIN:VTIMEZONE
TZID:America/New_York
BEGIN:DAYLIGHT
TZOFFSETFROM:-0500
TZOFFSETTO:-0400
TZNAME:EDT
DTSTART:20250309T070000
END:DAYLIGHT
BEGIN:STANDARD
TZOFFSETFROM:-0400
TZOFFSETTO:-0500
TZNAME:EST
DTSTART:20251102T060000
END:STANDARD
BEGIN:DAYLIGHT
TZOFFSETFROM:-0500
TZOFFSETTO:-0400
TZNAME:EDT
DTSTART:20260308T070000
END:DAYLIGHT
BEGIN:STANDARD
TZOFFSETFROM:-0400
TZOFFSETTO:-0500
TZNAME:EST
DTSTART:20261101T060000
END:STANDARD
BEGIN:DAYLIGHT
TZOFFSETFROM:-0500
TZOFFSETTO:-0400
TZNAME:EDT
DTSTART:20270314T070000
END:DAYLIGHT
BEGIN:STANDARD
TZOFFSETFROM:-0400
TZOFFSETTO:-0500
TZNAME:EST
DTSTART:20271107T060000
END:STANDARD
END:VTIMEZONE
BEGIN:VEVENT
DTSTART;TZID=America/New_York:20260411T093000
DTEND;TZID=America/New_York:20260411T103000
DTSTAMP:20260422T075131
CREATED:20260211T212744Z
LAST-MODIFIED:20260211T212744Z
UID:8331-1775899800-1775903400@cclongisland.org
SUMMARY:Memorial Mass - Holy Sepulchre
DESCRIPTION:In remembrance of those interred in April 2025
URL:https://cclongisland.org/event/memorial-mass-4-11-holy-sepulchre/
LOCATION:Holy Sepulchre Cemetery\, 3442 Route 112\, Coram\, NY\, 11727\, United States
CATEGORIES:Holy Sepulchre Cemetery
ORGANIZER;CN="Catholic Cemeteries of Long Island":MAILTO:info@cclongisland.org
END:VEVENT
BEGIN:VEVENT
DTSTART;TZID=America/New_York:20260328T093000
DTEND;TZID=America/New_York:20260328T103000
DTSTAMP:20260422T075131
CREATED:20260205T170836Z
LAST-MODIFIED:20260205T170836Z
UID:8283-1774690200-1774693800@cclongisland.org
SUMMARY:Memorial Mass - Holy Sepulchre
DESCRIPTION:In remembrance of those interred in February 2026.
URL:https://cclongisland.org/event/memorial-mass-3-28-holy-sepulchre/
LOCATION:Holy Sepulchre Cemetery\, 3442 Route 112\, Coram\, NY\, 11727\, United States
CATEGORIES:Holy Sepulchre Cemetery
ORGANIZER;CN="Catholic Cemeteries of Long Island":MAILTO:info@cclongisland.org
END:VEVENT
BEGIN:VEVENT
DTSTART;TZID=America/New_York:20260314T093000
DTEND;TZID=America/New_York:20260314T103000
DTSTAMP:20260422T075131
CREATED:20260205T170216Z
LAST-MODIFIED:20260205T170216Z
UID:8277-1773480600-1773484200@cclongisland.org
SUMMARY:Memorial Mass - Holy Sepulchre
DESCRIPTION:In remembrance of those interred in March 2025.
URL:https://cclongisland.org/event/memorial-mass-3-14-holy-sepulchre/
LOCATION:Holy Sepulchre Cemetery\, 3442 Route 112\, Coram\, NY\, 11727\, United States
CATEGORIES:Holy Sepulchre Cemetery
ORGANIZER;CN="Catholic Cemeteries of Long Island":MAILTO:info@cclongisland.org
END:VEVENT
BEGIN:VEVENT
DTSTART;TZID=America/New_York:20260228T093000
DTEND;TZID=America/New_York:20260228T103000
DTSTAMP:20260422T075131
CREATED:20260203T210602Z
LAST-MODIFIED:20260205T164304Z
UID:8252-1772271000-1772274600@cclongisland.org
SUMMARY:Memorial Mass - Holy Sepulchre
DESCRIPTION:Mass in remembrance of those interred in January 2026.
URL:https://cclongisland.org/event/memorial-mass-2-28-holy-sepulchre/
LOCATION:Holy Sepulchre Cemetery\, 3442 Route 112\, Coram\, NY\, 11727\, United States
CATEGORIES:Holy Sepulchre Cemetery
ORGANIZER;CN="Catholic Cemeteries of Long Island":MAILTO:info@cclongisland.org
END:VEVENT
BEGIN:VEVENT
DTSTART;TZID=America/New_York:20260214T093000
DTEND;TZID=America/New_York:20260214T103000
DTSTAMP:20260422T075131
CREATED:20260203T204851Z
LAST-MODIFIED:20260205T164514Z
UID:8239-1771061400-1771065000@cclongisland.org
SUMMARY:Memorial Mass - Holy Sepulchre
DESCRIPTION:In remembrance of those interred in our cemetery in February 2025.
URL:https://cclongisland.org/event/memorial-mass-2-14-holy-sepulchre/
LOCATION:Holy Sepulchre Cemetery\, 3442 Route 112\, Coram\, NY\, 11727\, United States
CATEGORIES:Holy Sepulchre Cemetery
END:VEVENT
END:VCALENDAR