BEGIN:VCALENDAR
VERSION:2.0
PRODID:-//Catholic Cemeteries of Long Island - ECPv6.15.17.1//NONSGML v1.0//EN
CALSCALE:GREGORIAN
METHOD:PUBLISH
X-WR-CALNAME:Catholic Cemeteries of Long Island
X-ORIGINAL-URL:https://cclongisland.org
X-WR-CALDESC:Events for Catholic Cemeteries of Long Island
REFRESH-INTERVAL;VALUE=DURATION:PT1H
X-Robots-Tag:noindex
X-PUBLISHED-TTL:PT1H
BEGIN:VTIMEZONE
TZID:America/New_York
BEGIN:DAYLIGHT
TZOFFSETFROM:-0500
TZOFFSETTO:-0400
TZNAME:EDT
DTSTART:20250309T070000
END:DAYLIGHT
BEGIN:STANDARD
TZOFFSETFROM:-0400
TZOFFSETTO:-0500
TZNAME:EST
DTSTART:20251102T060000
END:STANDARD
BEGIN:DAYLIGHT
TZOFFSETFROM:-0500
TZOFFSETTO:-0400
TZNAME:EDT
DTSTART:20260308T070000
END:DAYLIGHT
BEGIN:STANDARD
TZOFFSETFROM:-0400
TZOFFSETTO:-0500
TZNAME:EST
DTSTART:20261101T060000
END:STANDARD
BEGIN:DAYLIGHT
TZOFFSETFROM:-0500
TZOFFSETTO:-0400
TZNAME:EDT
DTSTART:20270314T070000
END:DAYLIGHT
BEGIN:STANDARD
TZOFFSETFROM:-0400
TZOFFSETTO:-0500
TZNAME:EST
DTSTART:20271107T060000
END:STANDARD
END:VTIMEZONE
BEGIN:VEVENT
DTSTART;TZID=America/New_York:20260425T093000
DTEND;TZID=America/New_York:20260425T103000
DTSTAMP:20260420T044728
CREATED:20260211T213621Z
LAST-MODIFIED:20260211T213639Z
UID:8341-1777109400-1777113000@cclongisland.org
SUMMARY:Memorial Mass - Queen of All Saints
DESCRIPTION:In remembrance of those interred in April 2025 & March 2026
URL:https://cclongisland.org/event/memorial-mass-4-25-queen-of-all-saints/
LOCATION:Queen of All Saints Cemetery\, 115 Wheeler Road\, Central Islip\, NY\, 11722\, United States
CATEGORIES:Queen of All Saints Cemetery
ORGANIZER;CN="Catholic Cemeteries of Long Island":MAILTO:info@cclongisland.org
END:VEVENT
BEGIN:VEVENT
DTSTART;TZID=America/New_York:20260523T093000
DTEND;TZID=America/New_York:20260523T103000
DTSTAMP:20260420T044728
CREATED:20260212T174117Z
LAST-MODIFIED:20260212T174132Z
UID:8368-1779528600-1779532200@cclongisland.org
SUMMARY:Memorial Mass - Queen of All Saints
DESCRIPTION:In remembrance of those interred in May 2025 & April 2026
URL:https://cclongisland.org/event/memorial-mass-5-23-queen-of-all-saints/
LOCATION:Queen of All Saints Cemetery\, 115 Wheeler Road\, Central Islip\, NY\, 11722\, United States
CATEGORIES:Queen of All Saints Cemetery
ORGANIZER;CN="Catholic Cemeteries of Long Island":MAILTO:info@cclongisland.org
END:VEVENT
BEGIN:VEVENT
DTSTART;TZID=America/New_York:20260525T093000
DTEND;TZID=America/New_York:20260525T103000
DTSTAMP:20260420T044728
CREATED:20260212T175137Z
LAST-MODIFIED:20260212T175137Z
UID:8378-1779701400-1779705000@cclongisland.org
SUMMARY:Memorial Day Mass - Queen of All Saints
DESCRIPTION:Join us as we pray and remember the faithful departed\, honoring those who gave their lives for our freedoms.
URL:https://cclongisland.org/event/memorial-day-mass-queen-of-all-saints/
LOCATION:Queen of All Saints Cemetery\, 115 Wheeler Road\, Central Islip\, NY\, 11722\, United States
CATEGORIES:Queen of All Saints Cemetery
ORGANIZER;CN="Catholic Cemeteries of Long Island":MAILTO:info@cclongisland.org
END:VEVENT
BEGIN:VEVENT
DTSTART;TZID=America/New_York:20260627T093000
DTEND;TZID=America/New_York:20260627T103000
DTSTAMP:20260420T044728
CREATED:20260212T181007Z
LAST-MODIFIED:20260212T181027Z
UID:8397-1782552600-1782556200@cclongisland.org
SUMMARY:Memorial Mass - Queen of All Saints
DESCRIPTION:In remembrance of those interred in June 2025 & May 2026
URL:https://cclongisland.org/event/memorial-mass-6-27-queen-of-all-saints/
LOCATION:Queen of All Saints Cemetery\, 115 Wheeler Road\, Central Islip\, NY\, 11722\, United States
CATEGORIES:Queen of All Saints Cemetery
ORGANIZER;CN="Catholic Cemeteries of Long Island":MAILTO:info@cclongisland.org
END:VEVENT
END:VCALENDAR