BEGIN:VCALENDAR
VERSION:2.0
PRODID:-//Catholic Cemeteries of Long Island - ECPv6.15.17.1//NONSGML v1.0//EN
CALSCALE:GREGORIAN
METHOD:PUBLISH
X-ORIGINAL-URL:https://cclongisland.org
X-WR-CALDESC:Events for Catholic Cemeteries of Long Island
REFRESH-INTERVAL;VALUE=DURATION:PT1H
X-Robots-Tag:noindex
X-PUBLISHED-TTL:PT1H
BEGIN:VTIMEZONE
TZID:America/New_York
BEGIN:DAYLIGHT
TZOFFSETFROM:-0500
TZOFFSETTO:-0400
TZNAME:EDT
DTSTART:20250309T070000
END:DAYLIGHT
BEGIN:STANDARD
TZOFFSETFROM:-0400
TZOFFSETTO:-0500
TZNAME:EST
DTSTART:20251102T060000
END:STANDARD
BEGIN:DAYLIGHT
TZOFFSETFROM:-0500
TZOFFSETTO:-0400
TZNAME:EDT
DTSTART:20260308T070000
END:DAYLIGHT
BEGIN:STANDARD
TZOFFSETFROM:-0400
TZOFFSETTO:-0500
TZNAME:EST
DTSTART:20261101T060000
END:STANDARD
BEGIN:DAYLIGHT
TZOFFSETFROM:-0500
TZOFFSETTO:-0400
TZNAME:EDT
DTSTART:20270314T070000
END:DAYLIGHT
BEGIN:STANDARD
TZOFFSETFROM:-0400
TZOFFSETTO:-0500
TZNAME:EST
DTSTART:20271107T060000
END:STANDARD
END:VTIMEZONE
BEGIN:VEVENT
DTSTART;TZID=America/New_York:20260214T093000
DTEND;TZID=America/New_York:20260214T103000
DTSTAMP:20260420T102144
CREATED:20260203T204808Z
LAST-MODIFIED:20260205T160210Z
UID:8237-1771061400-1771065000@cclongisland.org
SUMMARY:Memorial Mass - Queen of Peace
DESCRIPTION:In remembrance of those interred in our cemetery in February 2025.
URL:https://cclongisland.org/event/memorial-mass-2-14-queen-of-peace/
LOCATION:Queen of Peace Cemetery\, 321 Jericho Turnpike\, Old Westbury\, NY\, 11568\, United States
CATEGORIES:Queen of Peace Cemetery
ORGANIZER;CN="Catholic Cemeteries of Long Island":MAILTO:info@cclongisland.org
END:VEVENT
BEGIN:VEVENT
DTSTART;TZID=America/New_York:20260220T140000
DTEND;TZID=America/New_York:20260220T150000
DTSTAMP:20260420T102144
CREATED:20260203T205033Z
LAST-MODIFIED:20260211T213727Z
UID:8241-1771596000-1771599600@cclongisland.org
SUMMARY:Stations of the Cross - Queen of Peace
DESCRIPTION:To mark the beginning of Lent\, a special Stations of the Cross prayer service will take place at Queen of Peace Cemetery in Old Westbury. The service will be celebrated inside the Queen of Peace Chapel\, a sacred space that many in the community have not yet experienced and one that offers a uniquely reverent setting for this traditional Lenten devotion.
URL:https://cclongisland.org/event/stations-of-the-cross-2026-qp/
LOCATION:Queen of Peace Cemetery\, 321 Jericho Turnpike\, Old Westbury\, NY\, 11568\, United States
CATEGORIES:Queen of Peace Cemetery
ORGANIZER;CN="Catholic Cemeteries of Long Island":MAILTO:info@cclongisland.org
END:VEVENT
BEGIN:VEVENT
DTSTART;TZID=America/New_York:20260228T093000
DTEND;TZID=America/New_York:20260228T103000
DTSTAMP:20260420T102144
CREATED:20260203T210510Z
LAST-MODIFIED:20260205T160143Z
UID:8249-1772271000-1772274600@cclongisland.org
SUMMARY:Memorial Mass - Queen of Peace
DESCRIPTION:Mass in remembrance of those interred in January 2026.
URL:https://cclongisland.org/event/memorial-mass-2-28-queen-of-peace/
LOCATION:Queen of Peace Cemetery\, 321 Jericho Turnpike\, Old Westbury\, NY\, 11568\, United States
CATEGORIES:Queen of Peace Cemetery
ORGANIZER;CN="Catholic Cemeteries of Long Island":MAILTO:info@cclongisland.org
END:VEVENT
END:VCALENDAR